Workbook

Sheet Engine
B1: =IF('DECISIONS INPUT'!G23="","",25) -> 25
C2: START | D2: NUMBER | F2: Wages total | G2: Workers *%tax*av wage | J2: Pay to workers after tax | K2: Tax on work | L2: Pay as UBI | M2: Total CONSUMED | N2: Tax on vat | O2: GDP | P2: GDP LABOUR
B3: Population | C3: 10000000 | D3: =C3 -> 10000000 | F3: UBI | G3: Population *amount | J3: =R22 -> 1.1931818e+10 | K3: =D22 -> 1.0227273e+10 | L3: =P22 -> 3.1534091e+08 | M3: =R22+P22 -> 1.2247159e+10 | N3: =M3-(M3/1.25) -> 2.4494318e+09 | O3: =J3+K3+F22 -> 3.8004971e+10 | P3: =M3 -> 1.2247159e+10
B4: Working age % | C4: =73 -> 73 | D4: =D$3*C4/100 -> 7300000 | V4: 100 | W4: 25
B5: Workers | C5: =C4-(C4*C6/100) -> 72.9562 | D5: =D$4*C5/100 -> 5325802.6 | V5: =V4*(100+W4)/100 -> 125
B6: Unemployed % | C6: ='DECISIONS INPUT'!D7 -> 0.06 | D6: =D$4*C6/100 -> 4380 | V6: =V5/1.25 -> 100
B7: Needing UBI % | C7: =100*(176-41)/176 -> 76.704545 | D7: =D$3*C7/100 -> 7670454.5 | J7: =100-(100/1.25) -> 20
B8: Gov workers% | C8: 10 | D8: =D6*C8/100 -> 438 | R8: VATAMOUNT= | S8: Price*vat
B9: GOv income | C9: ='DECISIONS INPUT'!D15 -> 200000 | D9: =C9 -> 200000 | M9: VATAMOUNT= price * rate | R9: 25 | S9: =100* 0.25 -> 25
B10: GOV Social costs | C10: ='DECISIONS INPUT'!D16 -> 84000 | D10: =C10 -> 84000 | R10: =R9/0.25 -> 100
B11: GOv Other | C11: ='DECISIONS INPUT'!D15-'DECISIONS INPUT'!D16 -> 116000
B12: GOv UBI costs | C12: =(12*'DECISIONS INPUT'!J4*(C3*C7/100))/1000000 -> 0 | D12: =C12 -> 0 | F12: ='DECISIONS INPUT'!D24/100 -> 0.6
B13: Gov workers% | C13: =#REF! -> #REF! | D13: =C13*D8/100 -> #REF! | W13: =V22*1.25 -> 3.1534091e+08
B14: Total Moms income | C14: ='DECISIONS INPUT'!D12 -> 0.2 | D14: =D9*C14 -> 40000 | W14: =W13/1.25 -> 2.5227273e+08
B15: Work income | C15: ='DECISIONS INPUT'!D13 -> 60 | D15: =D9*C15 -> 12000000 | Q15: =26*P22/P22 -> 26 | R15: =Q22*0.66 -> 1.125e+10 | S15: =2*(Q22-R22) -> 1.0227273e+10
B16: Total wages | C16: ='DECISIONS INPUT'!D9*12*'DECISIONS INPUT'!D4*1000000/1000000 -> 1260000 | D16: =C16 -> 1260000 | N16: =80/100 -> 0.8 | U16: =U22*1.25 -> 1.1931818e+10 | V16: =V22*1.25 -> 3.1534091e+08
B17: Total gov wage income | C17: =D5*'DECISIONS INPUT'!D9*12 -> 1.9172889e+11 | E17: =25*0.01 -> 0.25
B19: Total other income | C19: 6 | D19: 5 | E19: 7 | F19: 8 | H19: 1 | M19: 2 | Q19: 3 | R19: 4 | AA19: GDP SECTION
C20: INCOME | H20: Numberinwork | L20: SOCIAL 0.42% | M20: Expenses | Q20: Wages total | R20: SPendingroom | S20: To tax | T20: Spending room | U20: Workers Spend room | V20: UBIspend | W20: Per person | X20: VAT | Y20: Support quota | Z20: Gov employees | AD20: CHECKSUMS | AF20: UBI As social | AI20: COMPÅANY PROFITABILITY
B21: ROUND | C21: VAT | D21: Tax on work | E21: Other | F21: Total Income | G21: With 0 = 100 | H21: number in work | I21: Number older in UBI | J21: number youth UBI | K21: Average wage/M | L21: SOCIAL 0.42% | M21: Social costs | N21: UBI Older | O21: UBI young | P21: UBI Total | R21: workers | T21: total | U21: workers after vat | V21: UBI after vat | Y21: Social care | AA21: All wages | AB21: All gov- social | AC21: GDP | AD21: OK | AE21: OK | AF21: Total social | AG21: state total | AI21: SPent-expenses | AJ21: Profitability start= 50
B22: 0 | C22: =(P22+R22)- ((P22+R22)/(1+('DECISIONS INPUT'!D23*0.01))) -> 2.4494318e+09 | D22: =(Q22*'DECISIONS INPUT'!D24/100) -> 1.0227273e+10 | E22: =(C22+D22)*20/80 -> 3.1691761e+09 | F22: =C22+D22+E22 -> 1.5845881e+10 | G22: 100 | H22: ='DECISIONS INPUT'!F6 -> 5681818.2 | I22: =('DECISIONS INPUT'!$D$3*1000000)-H22-J22 -> 1988636.4 | J22: ='DECISIONS INPUT'!D5*H22/100 -> 2329545.5 | K22: ='DECISIONS INPUT'!D29 -> 3000 | L22: =(F22*0.42)-O22-N22 -> 6.3399289e+09 | M22: =L22 -> 6.3399289e+09 | N22: =I22*'DECISIONS INPUT'!D25 -> 1.9886364e+08 | O22: =J22*'DECISIONS INPUT'!D25*0.5 -> 1.1647727e+08 | P22: =N22+O22 -> 3.1534091e+08 | Q22: ='DECISIONS INPUT'!D9*('DECISIONS INPUT'!F6*1-'DECISIONS INPUT'!D7) -> 1.7045454e+10 | R22: =Q22*(1-('DECISIONS INPUT'!$D$24*0.5/100)) -> 1.1931818e+10 | S22: =2*(Q22-R22) -> 1.0227273e+10 | T22: =P22+R22 -> 1.2247159e+10 | U22: =R22/((100+X22)*0.01) -> 9.5454544e+09 | V22: =P22/((100+X22)*0.01) -> 2.5227273e+08 | W22: =(P22/((100+X22)*0.01)) -> 2.5227273e+08 | X22: ='Graph engine'!J17 -> 25 | Y22: =100*(I22+J22)/H22 -> 76 | Z22: =H22*10/100 -> 568181.82 | AA22: =Q22+P22 -> 1.7360795e+10 | AB22: =F22-M22 -> 9.5059516e+09 | AC22: =AA22+AB22 -> 2.6866747e+10 | AD22: =H22+I22+J22 -> 10000000 | AE22: =M22+N22 -> 6.5387925e+09 | AF22: =P22+M22 -> 6.6552698e+09 | AG22: =F22 -> 1.5845881e+10 | AH22: =100*AF22/AG22 -> 42 | AI22: =AC22-Q22-((AC22-Q22)*X22/100) -> 7.3659694e+09 | AJ22: =50*AI22/$AI$22 -> 50
B23: =1+B22 -> 1 | C23: =(P23+R23)- (P23+R23)/(1+('DECISIONS INPUT'!E23*0.01)) -> 2.5194318e+09 | D23: =(Q23*'DECISIONS INPUT'!E24/100) -> 12862500000 | E23: =(C23+D23)*20/80 -> 3.845483e+09 | F23: =C23+D23+E23 -> 1.9227415e+10 | G23: =100*F23/$F$22 -> 121.34015 | H23: =$H$22*(1+'DECISIONS INPUT'!E31/100) -> 5568181.8 | I23: =('DECISIONS INPUT'!$D$3*1000000)-H23-J23 -> 2102272.7 | J23: =J22 -> 2329545.5 | K23: ='DECISIONS INPUT'!E29 -> 3300 | L23: =(F23*0.42)-O23-N23 -> 7.4221051e+09 | M23: =L23 -> 7.4221051e+09 | N23: =I23*'DECISIONS INPUT'!E25 -> 4.2045455e+08 | O23: =J23*'DECISIONS INPUT'!E25*0.5 -> 2.3295455e+08 | P23: =N23+O23 -> 6.5340909e+08 | Q23: =H23*K23 -> 18375000000 | R23: =Q23*(1-('DECISIONS INPUT'!E$24*0.5/100)) -> 11943750000 | S23: =2*(Q23-R23) -> 12862500000 | T23: =P23+R23 -> 1.2597159e+10 | U23: =R23/((100+X23)*0.01) -> 9555000000 | V23: =P23/((100+X23)*0.01) -> 5.2272727e+08 | W23: =(P23/((100+X23)*0.01)) -> 5.2272727e+08 | X23: ='Graph engine'!J18 -> 25 | Y23: =100* (I23+J23)/H23 -> 79.591837 | Z23: =$Z$22*(1+('DECISIONS INPUT'!E31/100)) -> 556818.18 | AA23: =Q23+P23 -> 1.9028409e+10 | AB23: =F23-M23 -> 1.180531e+10 | AC23: =AA23+AB23 -> 30833718750 | AD23: =H23+I23+J23 -> 10000000 | AE23: =M23+N23 -> 7.8425597e+09 | AF23: =P23+M23 -> 8.0755142e+09 | AG23: =F23 -> 1.9227415e+10 | AH23: =100*AF23/AG23 -> 42 | AI23: =AC23-Q23-((AC23-Q23)*X23/100) -> 9.3440391e+09 | AJ23: =50*AI23/$AI$22 -> 63.427083
B24: =1+B23 -> 2 | C24: =(P24+R24)-(P24+R24)/(1+('DECISIONS INPUT'!F23*0.01)) -> 2.6941445e+09 | D24: =(Q24*'DECISIONS INPUT'!F24/100) -> 12605250000 | E24: =(C24+D24)*20/80 -> 3.8248486e+09 | F24: =C24+D24+E24 -> 1.9124243e+10 | G24: =100*F24/$F$22 -> 120.68905 | H24: =$H$23*(1+'DECISIONS INPUT'!F31/100) -> 5456818.2 | I24: =('DECISIONS INPUT'!$D$3*1000000)-H24-J24 -> 2213636.4 | J24: =J23 -> 2329545.5 | K24: ='DECISIONS INPUT'!F29 -> 3300 | L24: =(F24*0.42)-O24-N24 -> 6.6808185e+09 | M24: =L24 -> 6.6808185e+09 | N24: =I24*'DECISIONS INPUT'!F25 -> 8.8545455e+08 | O24: =J24*'DECISIONS INPUT'!F25*0.5 -> 4.6590909e+08 | P24: =N24+O24 -> 1.3513636e+09 | Q24: =H24*K24 -> 18007500000 | R24: =Q24*(1-('DECISIONS INPUT'!F$24*0.5/100)) -> 11704875000 | S24: =2*(Q24-R24) -> 12605250000 | T24: =P24+R24 -> 1.3056239e+10 | U24: =R24/((100+X24)*0.01) -> 9.2895833e+09 | V24: =P24/((100+X24)*0.01) -> 1.0725108e+09 | W24: =(P24/((100+X24)*0.01)) -> 1.0725108e+09 | X24: ='Graph engine'!J19 -> 26 | Y24: =100* (I24+J24)/H24 -> 83.256976 | Z24: =$Z$22*(1+('DECISIONS INPUT'!F31/100)) -> 556818.18 | AA24: =Q24+P24 -> 1.9358864e+10 | AB24: =F24-M24 -> 1.2443425e+10 | AC24: =AA24+AB24 -> 3.1802288e+10 | AD24: =H24+I24+J24 -> 10000000 | AE24: =M24+N24 -> 7.566273e+09 | AF24: =P24+M24 -> 8.0321821e+09 | AG24: =F24 -> 1.9124243e+10 | AH24: =100*AF24/AG24 -> 42 | AI24: =AC24-Q24-((AC24-Q24)*X24/100) -> 1.0208143e+10 | AJ24: =50*AI24/$AI$22 -> 69.292599
B25: =1+B24 -> 3 | C25: =(P25+R25)-(P25+R25)/(1+('DECISIONS INPUT'!G23*0.01)) -> 3.0318266e+09 | D25: =(Q25*'DECISIONS INPUT'!G24/100) -> 12353145000 | E25: =(C25+D25)*20/80 -> 3.8462429e+09 | F25: =C25+D25+E25 -> 1.9231214e+10 | G25: =100*F25/$F$22 -> 121.36413 | H25: =$H$24*(1+'DECISIONS INPUT'!G31/100) -> 5347681.8 | I25: =('DECISIONS INPUT'!$D$3*1000000)-H25-J25 -> 2322772.7 | J25: =J24 -> 2329545.5 | K25: ='DECISIONS INPUT'!G29 -> 3300 | L25: =(F25*0.42)-O25-N25 -> 5.2870737e+09 | M25: =L25 -> 5.2870737e+09 | N25: =I25*'DECISIONS INPUT'!G25 -> 1.8582182e+09 | O25: =J25*'DECISIONS INPUT'!G25*0.5 -> 9.3181818e+08 | P25: =N25+O25 -> 2.7900364e+09 | Q25: =H25*K25 -> 17647350000 | R25: =Q25*(1-('DECISIONS INPUT'!G$24*0.5/100)) -> 11470777500 | S25: =2*(Q25-R25) -> 12353145000 | T25: =P25+R25 -> 1.4260814e+10 | U25: =R25/((100+X25)*0.01) -> 9.0321083e+09 | V25: =P25/((100+X25)*0.01) -> 2.196879e+09 | W25: =(P25/((100+X25)*0.01)) -> 2.196879e+09 | X25: ='Graph engine'!J20 -> 27 | Y25: =100* (I25+J25)/H25 -> 86.996915 | Z25: =$Z$22*(1+('DECISIONS INPUT'!G31/100)) -> 556818.18 | AA25: =Q25+P25 -> 2.0437386e+10 | AB25: =F25-M25 -> 1.3944141e+10 | AC25: =AA25+AB25 -> 3.4381527e+10 | AD25: =H25+I25+J25 -> 10000000 | AE25: =M25+N25 -> 7.1452919e+09 | AF25: =P25+M25 -> 8.0771101e+09 | AG25: =F25 -> 1.9231214e+10 | AH25: =100*AF25/AG25 -> 42 | AI25: =AC25-Q25-((AC25-Q25)*X25/100) -> 1.2215949e+10 | AJ25: =50*AI25/$AI$22 -> 82.921532
B26: =1+B25 -> 4 | C26: =(P26+R26)-(P26+R26)/(1+('DECISIONS INPUT'!H23*0.01)) -> 3.0880853e+09 | D26: =(Q26*'DECISIONS INPUT'!H24/100) -> 12106082100 | E26: =(C26+D26)*20/80 -> 3.7985418e+09 | F26: =C26+D26+E26 -> 1.8992709e+10 | G26: =100*F26/$F$22 -> 119.85897 | H26: =$H$25*(1+'DECISIONS INPUT'!H31/100) -> 5240728.2 | I26: =('DECISIONS INPUT'!$D$3*1000000)-H26-J26 -> 2429726.4 | J26: =J25 -> 2329545.5 | K26: ='DECISIONS INPUT'!H29 -> 3300 | L26: =(F26*0.42)-O26-N26 -> 5.1013386e+09 | M26: =L26 -> 5.1013386e+09 | N26: =I26*'DECISIONS INPUT'!H25 -> 1.9437811e+09 | O26: =J26*'DECISIONS INPUT'!H25*0.5 -> 9.3181818e+08 | P26: =N26+O26 -> 2.8755993e+09 | Q26: =H26*K26 -> 17294403000 | R26: =Q26*(1-('DECISIONS INPUT'!H$24*0.5/100)) -> 11241361950 | S26: =2*(Q26-R26) -> 12106082100 | T26: =P26+R26 -> 1.4116961e+10 | U26: =R26/((100+X26)*0.01) -> 8.782314e+09 | V26: =P26/((100+X26)*0.01) -> 2.2465619e+09 | W26: =(P26/((100+X26)*0.01)) -> 2.2465619e+09 | X26: ='Graph engine'!J21 -> 28 | Y26: =100* (I26+J26)/H26 -> 90.813178 | Z26: =$Z$22*(1+('DECISIONS INPUT'!H31/100)) -> 556818.18 | AA26: =Q26+P26 -> 2.0170002e+10 | AB26: =F26-M26 -> 1.3891371e+10 | AC26: =AA26+AB26 -> 3.4061373e+10 | AD26: =H26+I26+J26 -> 10000000 | AE26: =M26+N26 -> 7.0451197e+09 | AF26: =P26+M26 -> 7.9769379e+09 | AG26: =F26 -> 1.8992709e+10 | AH26: =100*AF26/AG26 -> 42 | AI26: =AC26-Q26-((AC26-Q26)*X26/100) -> 1.2072218e+10 | AJ26: =50*AI26/$AI$22 -> 81.94589
B27: =1+B26 -> 5 | C27: =(P27+R27)-(P27+R27)/(1+('DECISIONS INPUT'!I23*0.01)) -> 3.1418882e+09 | D27: =(Q27*'DECISIONS INPUT'!I24/100) -> 11863960458 | E27: =(C27+D27)*20/80 -> 3.7514622e+09 | F27: =C27+D27+E27 -> 1.8757311e+10 | G27: =100*F27/$F$22 -> 118.37342 | H27: =$H$26*(1+'DECISIONS INPUT'!I31/100) -> 5135913.6 | I27: =('DECISIONS INPUT'!$D$3*1000000)-H27-J27 -> 2534540.9 | J27: =J26 -> 2329545.5 | K27: ='DECISIONS INPUT'!I29 -> 3300 | L27: =(F27*0.42)-O27-N27 -> 4.9186196e+09 | M27: =L27 -> 4.9186196e+09 | N27: =I27*'DECISIONS INPUT'!I25 -> 2.0276327e+09 | O27: =J27*'DECISIONS INPUT'!I25*0.5 -> 9.3181818e+08 | P27: =N27+O27 -> 2.9594509e+09 | Q27: =H27*K27 -> 16948514940 | R27: =Q27*(1-('DECISIONS INPUT'!I$24*0.5/100)) -> 11016534711 | S27: =2*(Q27-R27) -> 11863960458 | T27: =P27+R27 -> 1.3975986e+10 | U27: =R27/((100+X27)*0.01) -> 8.5399494e+09 | V27: =P27/((100+X27)*0.01) -> 2.294148e+09 | W27: =(P27/((100+X27)*0.01)) -> 2.294148e+09 | X27: ='Graph engine'!J22 -> 29 | Y27: =100* (I27+J27)/H27 -> 94.707325 | Z27: =$Z$22*(1+('DECISIONS INPUT'!I31/100)) -> 556818.18 | AA27: =Q27+P27 -> 1.9907966e+10 | AB27: =F27-M27 -> 1.3838691e+10 | AC27: =AA27+AB27 -> 3.3746657e+10 | AD27: =H27+I27+J27 -> 10000000 | AE27: =M27+N27 -> 6.9462524e+09 | AF27: =P27+M27 -> 7.8780706e+09 | AG27: =F27 -> 1.8757311e+10 | AH27: =100*AF27/AG27 -> 42 | AI27: =AC27-Q27-((AC27-Q27)*X27/100) -> 1.1926681e+10 | AJ27: =50*AI27/$AI$22 -> 80.957986
B28: =1+B27 -> 6 | C28: =(P28+R28)-(P28+R28)/(1+('DECISIONS INPUT'!J23*0.01)) -> 3.1933453e+09 | D28: =(Q28*'DECISIONS INPUT'!J24/100) -> 1.1626681e+10 | E28: =(C28+D28)*20/80 -> 3.7050066e+09 | F28: =C28+D28+E28 -> 1.8525033e+10 | G28: =100*F28/$F$22 -> 116.90757 | H28: =$H$27*(1+'DECISIONS INPUT'!J31/100) -> 5033195.3 | I28: =('DECISIONS INPUT'!$D$3*1000000)-H28-J28 -> 2637259.2 | J28: =J27 -> 2329545.5 | K28: ='DECISIONS INPUT'!J29 -> 3300 | L28: =(F28*0.42)-O28-N28 -> 4.7388884e+09 | M28: =L28 -> 4.7388884e+09 | N28: =I28*'DECISIONS INPUT'!J25 -> 2.1098074e+09 | O28: =J28*'DECISIONS INPUT'!J25*0.5 -> 9.3181818e+08 | P28: =N28+O28 -> 3.0416255e+09 | Q28: =H28*K28 -> 1.6609545e+10 | R28: =Q28*(1-('DECISIONS INPUT'!J$24*0.5/100)) -> 1.0796204e+10 | S28: =2*(Q28-R28) -> 1.1626681e+10 | T28: =P28+R28 -> 1.383783e+10 | U28: =R28/((100+X28)*0.01) -> 8.3047723e+09 | V28: =P28/((100+X28)*0.01) -> 2.339712e+09 | W28: =(P28/((100+X28)*0.01)) -> 2.339712e+09 | X28: ='Graph engine'!J23 -> 30 | Y28: =100* (I28+J28)/H28 -> 98.680943 | Z28: =$Z$22*(1+('DECISIONS INPUT'!J31/100)) -> 556818.18 | AA28: =Q28+P28 -> 1.965117e+10 | AB28: =F28-M28 -> 1.3786145e+10 | AC28: =AA28+AB28 -> 3.3437315e+10 | AD28: =H28+I28+J28 -> 10000000 | AE28: =M28+N28 -> 6.8486957e+09 | AF28: =P28+M28 -> 7.7805139e+09 | AG28: =F28 -> 1.8525033e+10 | AH28: =100*AF28/AG28 -> 42 | AI28: =AC28-Q28-((AC28-Q28)*X28/100) -> 1.1779439e+10 | AJ28: =50*AI28/$AI$22 -> 79.958513
B29: =1+B28 -> 7 | C29: =(P29+R29)-(P29+R29)/(1+('DECISIONS INPUT'!K23*0.01)) -> 3.2425613e+09 | D29: =(Q29*'DECISIONS INPUT'!K24/100) -> 1.1394148e+10 | E29: =(C29+D29)*20/80 -> 3.6591772e+09 | F29: =C29+D29+E29 -> 1.8295886e+10 | G29: =100*F29/$F$22 -> 115.46147 | H29: =$H$28*(1+'DECISIONS INPUT'!K31/100) -> 4932531.4 | I29: =('DECISIONS INPUT'!$D$3*1000000)-H29-J29 -> 2737923.1 | J29: =J28 -> 2329545.5 | K29: ='DECISIONS INPUT'!K29 -> 3300 | L29: =(F29*0.42)-O29-N29 -> 4.5621155e+09 | M29: =L29 -> 4.5621155e+09 | N29: =I29*'DECISIONS INPUT'!K25 -> 2.1903385e+09 | O29: =J29*'DECISIONS INPUT'!K25*0.5 -> 9.3181818e+08 | P29: =N29+O29 -> 3.1221567e+09 | Q29: =H29*K29 -> 1.6277354e+10 | R29: =Q29*(1-('DECISIONS INPUT'!K$24*0.5/100)) -> 1.058028e+10 | S29: =2*(Q29-R29) -> 1.1394148e+10 | T29: =P29+R29 -> 1.3702437e+10 | U29: =R29/((100+X29)*0.01) -> 8.0765496e+09 | V29: =P29/((100+X29)*0.01) -> 2.3833257e+09 | W29: =(P29/((100+X29)*0.01)) -> 2.3833257e+09 | X29: ='Graph engine'!J24 -> 31 | Y29: =100* (I29+J29)/H29 -> 102.73566 | Z29: =$Z$22*(1+('DECISIONS INPUT'!K31/100)) -> 556818.18 | AA29: =Q29+P29 -> 1.939951e+10 | AB29: =F29-M29 -> 1.3733771e+10 | AC29: =AA29+AB29 -> 3.3133281e+10 | AD29: =H29+I29+J29 -> 10000000 | AE29: =M29+N29 -> 6.752454e+09 | AF29: =P29+M29 -> 7.6842722e+09 | AG29: =F29 -> 1.8295886e+10 | AH29: =100*AF29/AG29 -> 42 | AI29: =AC29-Q29-((AC29-Q29)*X29/100) -> 1.163059e+10 | AJ29: =50*AI29/$AI$22 -> 78.948128
B30: =1+B29 -> 8 | C30: =(P30+R30)-(P30+R30)/(1+('DECISIONS INPUT'!L23*0.01)) -> 3.2896367e+09 | D30: =(Q30*'DECISIONS INPUT'!L24/100) -> 1.1166265e+10 | E30: =(C30+D30)*20/80 -> 3.6139754e+09 | F30: =C30+D30+E30 -> 1.8069877e+10 | G30: =100*F30/$F$22 -> 114.03517 | H30: =$H$29*(1+'DECISIONS INPUT'!L31/100) -> 4833880.8 | I30: =('DECISIONS INPUT'!$D$3*1000000)-H30-J30 -> 2836573.7 | J30: =J29 -> 2329545.5 | K30: ='DECISIONS INPUT'!L29 -> 3300 | L30: =(F30*0.42)-O30-N30 -> 4.3882711e+09 | M30: =L30 -> 4.3882711e+09 | N30: =I30*'DECISIONS INPUT'!L25 -> 2.269259e+09 | O30: =J30*'DECISIONS INPUT'!L25*0.5 -> 9.3181818e+08 | P30: =N30+O30 -> 3.2010772e+09 | Q30: =H30*K30 -> 1.5951807e+10 | R30: =Q30*(1-('DECISIONS INPUT'!L$24*0.5/100)) -> 1.0368674e+10 | S30: =2*(Q30-R30) -> 1.1166265e+10 | T30: =P30+R30 -> 1.3569752e+10 | U30: =R30/((100+X30)*0.01) -> 7.8550563e+09 | V30: =P30/((100+X30)*0.01) -> 2.4250585e+09 | W30: =(P30/((100+X30)*0.01)) -> 2.4250585e+09 | X30: ='Graph engine'!J25 -> 32 | Y30: =100* (I30+J30)/H30 -> 106.87312 | Z30: =$Z$22*(1+('DECISIONS INPUT'!L31/100)) -> 556818.18 | AA30: =Q30+P30 -> 1.9152884e+10 | AB30: =F30-M30 -> 1.3681606e+10 | AC30: =AA30+AB30 -> 3.283449e+10 | AD30: =H30+I30+J30 -> 10000000 | AE30: =M30+N30 -> 6.6575301e+09 | AF30: =P30+M30 -> 7.5893482e+09 | AG30: =F30 -> 1.8069877e+10 | AH30: =100*AF30/AG30 -> 42 | AI30: =AC30-Q30-((AC30-Q30)*X30/100) -> 1.1480224e+10 | AJ30: =50*AI30/$AI$22 -> 77.927451
B31: =1+B30 -> 9 | C31: =(P31+R31)-(P31+R31)/(1+('DECISIONS INPUT'!M23*0.01)) -> 3.3346674e+09 | D31: =(Q31*'DECISIONS INPUT'!M24/100) -> 1.0942939e+10 | E31: =(C31+D31)*20/80 -> 3.5694017e+09 | F31: =C31+D31+E31 -> 1.7847008e+10 | G31: =100*F31/$F$22 -> 112.6287 | H31: =$H$30*(1+'DECISIONS INPUT'!M31/100) -> 4737203.2 | I31: =('DECISIONS INPUT'!$D$3*1000000)-H31-J31 -> 2933251.4 | J31: =J30 -> 2329545.5 | K31: ='DECISIONS INPUT'!M29 -> 3300 | L31: =(F31*0.42)-O31-N31 -> 4.2173243e+09 | M31: =L31 -> 4.2173243e+09 | N31: =I31*'DECISIONS INPUT'!M25 -> 2.3466011e+09 | O31: =J31*'DECISIONS INPUT'!M25*0.5 -> 9.3181818e+08 | P31: =N31+O31 -> 3.2784193e+09 | Q31: =H31*K31 -> 1.5632771e+10 | R31: =Q31*(1-('DECISIONS INPUT'!M$24*0.5/100)) -> 1.0161301e+10 | S31: =2*(Q31-R31) -> 1.0942939e+10 | T31: =P31+R31 -> 1.343972e+10 | U31: =R31/((100+X31)*0.01) -> 7.6400758e+09 | V31: =P31/((100+X31)*0.01) -> 2.4649769e+09 | W31: =(P31/((100+X31)*0.01)) -> 2.4649769e+09 | X31: ='Graph engine'!J26 -> 33 | Y31: =100* (I31+J31)/H31 -> 111.09502 | Z31: =$Z$22*(1+('DECISIONS INPUT'!M31/100)) -> 556818.18 | AA31: =Q31+P31 -> 1.891119e+10 | AB31: =F31-M31 -> 1.3629684e+10 | AC31: =AA31+AB31 -> 3.2540874e+10 | AD31: =H31+I31+J31 -> 10000000 | AE31: =M31+N31 -> 6.5639254e+09 | AF31: =P31+M31 -> 7.4957436e+09 | AG31: =F31 -> 1.7847008e+10 | AH31: =100*AF31/AG31 -> 42 | AI31: =AC31-Q31-((AC31-Q31)*X31/100) -> 1.1328429e+10 | AJ31: =50*AI31/$AI$22 -> 76.89707
B32: =1+B31 -> 10 | C32: =(P32+R32)-(P32+R32)/(1+('DECISIONS INPUT'!N23*0.01)) -> 3.4100782e+09 | D32: =(Q32*'DECISIONS INPUT'!N24/100) -> 1.0942939e+10 | E32: =(C32+D32)*20/80 -> 3.5882544e+09 | F32: =C32+D32+E32 -> 1.7941272e+10 | G32: =100*F32/$F$22 -> 113.22357 | H32: =$H$30*(1+'DECISIONS INPUT'!N31/100) -> 4737203.2 | I32: =('DECISIONS INPUT'!$D$3*1000000)-H32-J32 -> 2933251.4 | J32: =J31 -> 2329545.5 | K32: ='DECISIONS INPUT'!N29 -> 3300 | L32: =(F32*0.42)-O32-N32 -> 4.256915e+09 | M32: =L32 -> 4.256915e+09 | N32: =I32*'DECISIONS INPUT'!N25 -> 2.3466011e+09 | O32: =J32*'DECISIONS INPUT'!N25*0.5 -> 9.3181818e+08 | P32: =N32+O32 -> 3.2784193e+09 | Q32: =H32*K32 -> 1.5632771e+10 | R32: =Q32*(1-('DECISIONS INPUT'!N$24*0.5/100)) -> 1.0161301e+10 | X32: ='Graph engine'!J27 -> 34 | Y32: =100* (I32+J32)/H32 -> 111.09502 | Z32: =$Z$22*(1+('DECISIONS INPUT'!N31/100)) -> 556818.18 | AA32: =Q32+P32 -> 1.891119e+10 | AB32: =F32-M32 -> 1.3684357e+10 | AC32: =AA32+AB32 -> 3.2595547e+10 | AD32: =H32+I32+J32 -> 10000000 | AE32: =M32+N32 -> 6.6035161e+09 | AF32: =P32+M32 -> 7.5353342e+09 | AG32: =F32 -> 1.7941272e+10 | AH32: =100*AF32/AG32 -> 42 | AI32: =AC32-Q32-((AC32-Q32)*X32/100) -> 1.1195432e+10 | AJ32: =50*AI32/$AI$22 -> 75.994291
B33: =1+B32 -> 11 | C33: =(P33+R33)-(P33+R33)/(1+('DECISIONS INPUT'!O23*0.01)) -> 3.4843719e+09 | D33: =(Q33*'DECISIONS INPUT'!O24/100) -> 1.0942939e+10 | E33: =(C33+D33)*20/80 -> 3.6068278e+09 | F33: =C33+D33+E33 -> 1.8034139e+10 | G33: =100*F33/$F$22 -> 113.80964 | H33: =$H$30*(1+'DECISIONS INPUT'!O31/100) -> 4737203.2 | I33: =('DECISIONS INPUT'!$D$3*1000000)-H33-J33 -> 2933251.4 | J33: =J32 -> 2329545.5 | K33: ='DECISIONS INPUT'!O29 -> 3300 | L33: =(F33*0.42)-O33-N33 -> 4.2959191e+09 | M33: =L33 -> 4.2959191e+09 | N33: =I33*'DECISIONS INPUT'!O25 -> 2.3466011e+09 | O33: =J33*'DECISIONS INPUT'!O25*0.5 -> 9.3181818e+08 | P33: =N33+O33 -> 3.2784193e+09 | Q33: =H33*K33 -> 1.5632771e+10 | R33: =Q33*(1-('DECISIONS INPUT'!O$24*0.5/100)) -> 1.0161301e+10 | X33: ='Graph engine'!J28 -> 35 | Y33: =100* (I33+J33)/H33 -> 111.09502 | Z33: =$Z$22*(1+('DECISIONS INPUT'!O31/100)) -> 556818.18 | AA33: =Q33+P33 -> 1.891119e+10 | AB33: =F33-M33 -> 1.373822e+10 | AC33: =AA33+AB33 -> 3.264941e+10 | AD33: =H33+I33+J33 -> 10000000 | AE33: =M33+N33 -> 6.6425202e+09 | AF33: =P33+M33 -> 7.5743384e+09 | AG33: =F33 -> 1.8034139e+10 | AH33: =100*AF33/AG33 -> 42 | AI33: =AC33-Q33-((AC33-Q33)*X33/100) -> 1.1060815e+10 | AJ33: =50*AI33/$AI$22 -> 75.080515
B34: =1+B33 -> 12 | C34: =(P34+R34)-(P34+R34)/(1+('DECISIONS INPUT'!P23*0.01)) -> 3.557573e+09 | D34: =(Q34*'DECISIONS INPUT'!P24/100) -> 1.0942939e+10 | E34: =(C34+D34)*20/80 -> 3.6251281e+09 | F34: =C34+D34+E34 -> 1.812564e+10 | G34: =100*F34/$F$22 -> 114.38708 | H34: =$H$30*(1+'DECISIONS INPUT'!P31/100) -> 4737203.2 | I34: =('DECISIONS INPUT'!$D$3*1000000)-H34-J34 -> 2933251.4 | J34: =J33 -> 2329545.5 | K34: ='DECISIONS INPUT'!P29 -> 3300 | L34: =(F34*0.42)-O34-N34 -> 4.3343497e+09 | M34: =L34 -> 4.3343497e+09 | N34: =I34*'DECISIONS INPUT'!P25 -> 2.3466011e+09 | O34: =J34*'DECISIONS INPUT'!P25*0.5 -> 9.3181818e+08 | P34: =N34+O34 -> 3.2784193e+09 | Q34: =H34*K34 -> 1.5632771e+10 | R34: =Q34*(1-('DECISIONS INPUT'!P$24*0.5/100)) -> 1.0161301e+10 | X34: ='Graph engine'!J29 -> 36 | Y34: =100* (I34+J34)/H34 -> 111.09502 | Z34: =$Z$22*(1+('DECISIONS INPUT'!P31/100)) -> 556818.18 | AA34: =Q34+P34 -> 1.891119e+10 | AB34: =F34-M34 -> 1.3791291e+10 | AC34: =AA34+AB34 -> 3.2702481e+10 | AD34: =H34+I34+J34 -> 10000000 | AE34: =M34+N34 -> 6.6809508e+09 | AF34: =P34+M34 -> 7.612769e+09 | AG34: =F34 -> 1.812564e+10 | AH34: =100*AF34/AG34 -> 42 | AI34: =AC34-Q34-((AC34-Q34)*X34/100) -> 1.0924614e+10 | AJ34: =50*AI34/$AI$22 -> 74.155986
B41: =1+B40 -> 1
B42: =1+B41 -> 2
B43: =1+B42 -> 3
B44: =1+B43 -> 4
B45: =1+B44 -> 5
B46: =1+B45 -> 6
B47: =1+B46 -> 7
...

Sheet Graph engine
A1: =A16 -> ROUND | B1: =B16 -> Average Wage start=50/100 | C1: Minimum Wage | D1: Wage after tax | E1: Wages after tax & VAT | F1: UBI after VAT | G1: =C16 -> UBI compared to average wage | H1: =J16 -> VAT Rate in % | I1: =K16 -> Tax on work% | J1: Spending power workers start=100 | K1: Spending power UBI takers start=100 | L1: UBI after VAT | M1: Wage after tax | N1: Wage after vat | O1: Minimum after TAX | P1: minimum after VAT
A2: =A17 -> 0 | B2: =B17 -> 50 | C2: =50*'DECISIONS INPUT'!D35/'DECISIONS INPUT'!D29 -> 11.666667 | D2: =B2*(100-(K17/2))*0.01 -> 35 | E2: =D2/((100+J17)*0.01) -> 28 | F2: =G2/((100+J17)*0.01) -> 1.3333333 | G2: =C17 -> 1.6666667 | H2: =J17 -> 25 | I2: =K17 -> 60 | J2: =100*Engine!U22/Engine!$U$22 -> 100 | K2: =IF(Engine!$V$22=0,"",(100*Engine!V22/Engine!$V$22)) -> 100 | L2: =C17/(1+(H2*0.01)) -> 1.3333333 | M2: =B2*(100-'DECISIONS INPUT'!D24)/100 -> 20 | N2: =M2/(1+(H2*0.01)) -> 16 | O2: =C2*(100-(K17/2))*0.01 -> 8.1666667 | P2: =O2/(1+(H2*0.01)) -> 6.5333333 | W2: CREATING A BLANK
A3: =A18 -> 1 | B3: =B18 -> 55 | C3: =C2 -> 11.666667 | D3: =B3*(100-(K18/2))*0.01 -> 35.75 | E3: =D3/((100+J18)*0.01) -> 28.6 | F3: =G3/((100+J18)*0.01) -> 2.6666667 | G3: =C18 -> 3.3333333 | H3: =J18 -> 25 | I3: =K18 -> 70 | J3: =100*Engine!U23/Engine!$U$22 -> 100.1 | K3: =100*Engine!V23/Engine!$V$23 -> 100 | L3: =C18/(1+(H3*0.01)) -> 2.6666667 | M3: =B3*(100-'DECISIONS INPUT'!E24)/100 -> 16.5 | N3: =M3/(1+(H3*0.01)) -> 13.2 | O3: =C3*(100-(K18/2))*0.01 -> 7.5833333 | P3: =O3/(1+(H3*0.01)) -> 6.0666667 | W3: If (X=0; ""; FORMULA)
A4: =A19 -> 2 | B4: =B19 -> 55 | C4: =C3 -> 11.666667 | D4: =B4*(100-(K19/2))*0.01 -> 35.75 | E4: =D4/((100+J19)*0.01) -> 28.373016 | F4: =G4/((100+J19)*0.01) -> 5.2910053 | G4: =C19 -> 6.6666667 | H4: =J19 -> 26 | I4: =K19 -> 70 | J4: =100*Engine!U24/Engine!$U$22 -> 97.319445 | K4: =100*Engine!V24/Engine!$V$23 -> 205.17598 | L4: =C19/(1+(H4*0.01)) -> 5.2910053 | M4: =B4*(100-'DECISIONS INPUT'!F24)/100 -> 16.5 | N4: =M4/(1+(H4*0.01)) -> 13.095238 | O4: =C4*(100-(K19/2))*0.01 -> 7.5833333 | P4: =O4/(1+(H4*0.01)) -> 6.0185185 | R4: =1+Q4 -> 1
A5: =A20 -> 3 | B5: =B20 -> 55 | C5: =C4 -> 11.666667 | D5: =B5*(100-(K20/2))*0.01 -> 35.75 | E5: =D5/((100+J20)*0.01) -> 28.149606 | F5: =G5/((100+J20)*0.01) -> 10.498688 | G5: =C20 -> 13.333333 | H5: =J20 -> 27 | I5: =K20 -> 70 | J5: =100*Engine!U25/Engine!$U$22 -> 94.622088 | K5: =100*Engine!V25/Engine!$V$23 -> 420.27251 | L5: =C20/(1+(H5*0.01)) -> 10.498688 | M5: =B5*(100-'DECISIONS INPUT'!G24)/100 -> 16.5 | N5: =M5/(1+(H5*0.01)) -> 12.992126 | O5: =C5*(100-(K20/2))*0.01 -> 7.5833333 | P5: =O5/(1+(H5*0.01)) -> 5.9711286
A6: =A21 -> 4 | B6: =B21 -> 55 | C6: =C5 -> 11.666667 | D6: =B6*(100-(K21/2))*0.01 -> 35.75 | E6: =D6/((100+J21)*0.01) -> 27.929688 | F6: =G6/((100+J21)*0.01) -> 10.416667 | G6: =C21 -> 13.333333 | H6: =J21 -> 28 | I6: =K21 -> 70 | J6: =100*Engine!U26/Engine!$U$22 -> 92.005196 | K6: =100*Engine!V26/Engine!$V$23 -> 429.77707 | L6: =C21/(1+(H6*0.01)) -> 10.416667 | M6: =B6*(100-'DECISIONS INPUT'!H24)/100 -> 16.5 | N6: =M6/(1+(H6*0.01)) -> 12.890625 | O6: =C6*(100-(K21/2))*0.01 -> 7.5833333 | P6: =O6/(1+(H6*0.01)) -> 5.9244792
A7: =A22 -> 5 | B7: =B22 -> 55 | C7: =C6 -> 11.666667 | D7: =B7*(100-(K22/2))*0.01 -> 35.75 | E7: =D7/((100+J22)*0.01) -> 27.713178 | F7: =G7/((100+J22)*0.01) -> 10.335917 | G7: =C22 -> 13.333333 | H7: =J22 -> 29 | I7: =K22 -> 70 | J7: =100*Engine!U27/Engine!$U$22 -> 89.466137 | K7: =100*Engine!V27/Engine!$V$23 -> 438.88049 | L7: =C22/(1+(H7*0.01)) -> 10.335917 | M7: =B7*(100-'DECISIONS INPUT'!I24)/100 -> 16.5 | N7: =M7/(1+(H7*0.01)) -> 12.790698 | O7: =C7*(100-(K22/2))*0.01 -> 7.5833333 | P7: =O7/(1+(H7*0.01)) -> 5.878553
A8: =A23 -> 6 | B8: =B23 -> 55 | C8: =C7 -> 11.666667 | D8: =B8*(100-(K23/2))*0.01 -> 35.75 | E8: =D8/((100+J23)*0.01) -> 27.5 | F8: =G8/((100+J23)*0.01) -> 10.25641 | G8: =C23 -> 13.333333 | H8: =J23 -> 30 | I8: =K23 -> 70 | J8: =100*Engine!U28/Engine!$U$22 -> 87.002378 | K8: =100*Engine!V28/Engine!$V$23 -> 447.59707 | L8: =C23/(1+(H8*0.01)) -> 10.25641 | M8: =B8*(100-'DECISIONS INPUT'!J24)/100 -> 16.5 | N8: =M8/(1+(H8*0.01)) -> 12.692308 | O8: =C8*(100-(K23/2))*0.01 -> 7.5833333 | P8: =O8/(1+(H8*0.01)) -> 5.8333333
A9: =A24 -> 7 | B9: =B24 -> 55 | C9: =C8 -> 11.666667 | D9: =B9*(100-(K24/2))*0.01 -> 35.75 | E9: =D9/((100+J24)*0.01) -> 27.290076 | F9: =G9/((100+J24)*0.01) -> 10.178117 | G9: =C24 -> 13.333333 | H9: =J24 -> 31 | I9: =K24 -> 70 | J9: =100*Engine!U29/Engine!$U$22 -> 84.611473 | K9: =100*Engine!V29/Engine!$V$23 -> 455.94057 | L9: =C24/(1+(H9*0.01)) -> 10.178117 | M9: =B9*(100-'DECISIONS INPUT'!K24)/100 -> 16.5 | N9: =M9/(1+(H9*0.01)) -> 12.59542 | O9: =C9*(100-(K24/2))*0.01 -> 7.5833333 | P9: =O9/(1+(H9*0.01)) -> 5.7888041
A10: =A25 -> 8 | B10: =B25 -> 55 | C10: =C9 -> 11.666667 | D10: =B10*(100-(K25/2))*0.01 -> 35.75 | E10: =D10/((100+J25)*0.01) -> 27.083333 | F10: =G10/((100+J25)*0.01) -> 10.10101 | G10: =C25 -> 13.333333 | H10: =J25 -> 32 | I10: =K25 -> 70 | J10: =100*Engine!U30/Engine!$U$22 -> 82.291067 | K10: =100*Engine!V30/Engine!$V$23 -> 463.92423 | L10: =C25/(1+(H10*0.01)) -> 10.10101 | M10: =B10*(100-'DECISIONS INPUT'!L24)/100 -> 16.5 | N10: =M10/(1+(H10*0.01)) -> 12.5 | O10: =C10*(100-(K25/2))*0.01 -> 7.5833333 | P10: =O10/(1+(H10*0.01)) -> 5.7449495
A11: =A26 -> 9 | B11: =B26 -> 55 | C11: =C10 -> 11.666667 | D11: =B11*(100-(K26/2))*0.01 -> 35.75 | E11: =D11/((100+J26)*0.01) -> 26.879699 | F11: =G11/((100+J26)*0.01) -> 10.025063 | G11: =C26 -> 13.333333 | H11: =J26 -> 33 | I11: =K26 -> 70 | J11: =100*Engine!U31/Engine!$U$22 -> 80.03889 | K11: =100*Engine!V31/Engine!$V$23 -> 471.5608 | L11: =C26/(1+(H11*0.01)) -> 10.025063 | M11: =B11*(100-'DECISIONS INPUT'!M24)/100 -> 16.5 | N11: =M11/(1+(H11*0.01)) -> 12.406015 | O11: =C11*(100-(K26/2))*0.01 -> 7.5833333 | P11: =O11/(1+(H11*0.01)) -> 5.7017544
A12: =A27 -> 10 | B12: =B27 -> 55 | C12: =C11 -> 11.666667 | D12: =B12*(100-(K27/2))*0.01 -> 35.75 | E12: =D12/((100+J27)*0.01) -> 26.679104 | F12: =G12/((100+J27)*0.01) -> 9.9502488 | G12: =C27 -> 13.333333 | H12: =J27 -> 34 | J12: =100*Engine!U32/Engine!$U$22 -> 0 | K12: =100*Engine!V32/Engine!$V$23 -> 0 | L12: =C27/(1+(H12*0.01)) -> 9.9502488 | M12: =B12*(100-'DECISIONS INPUT'!N24)/100 -> 16.5 | N12: =M12/(1+(H12*0.01)) -> 12.313433 | O12: =C12*(100-(K27/2))*0.01 -> 7.5833333 | P12: =O12/(1+(H12*0.01)) -> 5.659204
A13: =A28 -> 11 | B13: =B28 -> 55 | C13: =C12 -> 11.666667 | D13: =B13*(100-(K28/2))*0.01 -> 35.75 | E13: =D13/((100+J28)*0.01) -> 26.481481 | F13: =G13/((100+J28)*0.01) -> 9.8765432 | G13: =C28 -> 13.333333 | H13: =J28 -> 35 | J13: =100*Engine!U33/Engine!$U$22 -> 0 | K13: =100*Engine!V33/Engine!$V$23 -> 0 | L13: =C28/(1+(H13*0.01)) -> 9.8765432 | M13: =B13*(100-'DECISIONS INPUT'!O24)/100 -> 16.5 | N13: =M13/(1+(H13*0.01)) -> 12.222222 | O13: =C13*(100-(K28/2))*0.01 -> 7.5833333 | P13: =O13/(1+(H13*0.01)) -> 5.617284
A14: =A29 -> 12 | B14: =B29 -> 55 | C14: =C13 -> 11.666667 | D14: =B14*(100-(K29/2))*0.01 -> 35.75 | E14: =D14/((100+J29)*0.01) -> 26.286765 | F14: =G14/((100+J29)*0.01) -> 9.8039216 | G14: =C29 -> 13.333333 | H14: =J29 -> 36 | J14: =100*Engine!U34/Engine!$U$22 -> 0 | K14: =100*Engine!V34/Engine!$V$23 -> 0 | L14: =C29/(1+(H14*0.01)) -> 9.8039216 | M14: =B14*(100-'DECISIONS INPUT'!P24)/100 -> 16.5 | N14: =M14/(1+(H14*0.01)) -> 12.132353 | O14: =C14*(100-(K29/2))*0.01 -> 7.5833333 | P14: =O14/(1+(H14*0.01)) -> 5.5759804 | U14: Social costs | V14: Education and health | W14: Infrastructure | X14: Police, justice, administration
A15: ='DECISIONS INPUT'!D9 -> 3000 | B15: 1 | C15: CHART 1 | H15: Chart 2 | R15: Chart 4 expenses | U15: 42 | V15: 27 | W15: 10 | X15: =100-U15-V15-W15 -> 21 | Y15: =V15+W15+X15 -> 58 | Z15: =SUM(U15:X15) -> 100 | AB15: TOTAL ECONOMY
A16: ROUND | B16: Average Wage start=50/100 | C16: UBI compared to average wage | D16: Minimum (compared to average) | E16: Support quota | F16: Workforce % of total population | H16: =A16 -> ROUND | I16: State Income 0=100 | J16: VAT Rate in % | K16: Tax on work% | L16: State Expenses UBI as percentage of total | M16: =F16 -> Workforce % of total population | N16: State expense Social care | O16: =H16 -> ROUND | P16: Gov employees start= 100 | Q16: Government popularity start = 50 | R16: =H16 -> ROUND | S16: =Engine!M21 -> Social costs | T16: =Engine!N21 -> UBI Older | U16: =Engine!O21 -> UBI young | V16: Education and health | W16: Infrastructure | X16: Police, justice, administration | Y16: total income | Z16: Checksum | AA16: Spending PIE
A17: 0 | B17: =50*'DECISIONS INPUT'!D29/'DECISIONS INPUT'!D29 -> 50 | C17: =B17*'DECISIONS INPUT'!D25/'DECISIONS INPUT'!D29 -> 1.6666667 | D17: =B17*'DECISIONS INPUT'!$F$10 -> 11.666667 | E17: =Engine!Y22 -> 76 | F17: =100*Engine!H22/Engine!C3 -> 56.818182 | H17: =A17 -> 0 | I17: 100 | J17: ='DECISIONS INPUT'!D23 -> 25 | K17: ='DECISIONS INPUT'!D24 -> 60 | L17: =100*(T17+U17)/Y17 -> 1.9900498 | M17: =F17 -> 56.818182 | N17: =I17*( 42-L17)/100 -> 40.00995 | O17: =H17 -> 0 | P17: 100 | Q17: ='DECISIONS INPUT'!D33 -> 50 | R17: =H17 -> 0 | S17: =Engine!M22 -> 6.3399289e+09 | T17: =Engine!N22 -> 1.9886364e+08 | U17: =Engine!O22 -> 1.1647727e+08 | V17: =(Y17-(S17+T17+U17))*$V$15/$Y$15 -> 4.2783877e+09 | W17: =(Y17-(S17+T17+U17))*$W$15/$Y$15 -> 1.5845881e+09 | X17: =(Y17-(S17+T17+U17))*$X$15/$Y$15 -> 3.3276349e+09 | Y17: =Engine!F22 -> 1.5845881e+10 | Z17: =SUM(S17:X17) -> 1.5845881e+10 | AA17: =V17+W17+X17 -> 9.1906107e+09 | AB17: =Engine!F22+Engine!R22 -> 2.7777699e+10
A18: 1 | B18: =50*'DECISIONS INPUT'!E29/'DECISIONS INPUT'!D29 -> 55 | C18: =B18*'DECISIONS INPUT'!E25/'DECISIONS INPUT'!E29 -> 3.3333333 | D18: =B18*'DECISIONS INPUT'!$F$10 -> 12.833333 | E18: =Engine!Y23 -> 79.591837 | F18: =100*Engine!H23/Engine!$C$3 -> 55.681818 | H18: =A18 -> 1 | I18: =IF(Engine!G23=0,"",Engine!G23) -> 121.34015 | J18: ='DECISIONS INPUT'!E23 -> 25 | K18: ='DECISIONS INPUT'!E24 -> 70 | L18: =100*(T18+U18)/Y18 -> 3.39832 | M18: =F18 -> 55.681818 | N18: =I18*( 42-L18)/100 -> 46.839335 | O18: =H18 -> 1 | P18: =P17*0.98 -> 98 | Q18: ='DECISIONS INPUT'!E33 -> 80 | R18: =H18 -> 1 | S18: =Engine!M23 -> 7.4221051e+09 | T18: =Engine!N23 -> 4.2045455e+08 | U18: =Engine!O23 -> 2.3295455e+08 | V18: =(Y18-(S18+T18+U18))*$V$15/$Y$15 -> 5.191402e+09 | W18: =(Y18-(S18+T18+U18))*$W$15/$Y$15 -> 1.9227415e+09 | X18: =(Y18-(S18+T18+U18))*$X$15/$Y$15 -> 4.0377571e+09 | Y18: =Engine!F23 -> 1.9227415e+10 | Z18: =SUM(S18:X18) -> 1.9227415e+10 | AA18: =V18+W18+X18 -> 1.1151901e+10
A19: 2 | B19: =50*'DECISIONS INPUT'!F29/'DECISIONS INPUT'!$D$29 -> 55 | C19: =B19*'DECISIONS INPUT'!F25/'DECISIONS INPUT'!F29 -> 6.6666667 | D19: =B19*'DECISIONS INPUT'!$F$10 -> 12.833333 | E19: =Engine!Y24 -> 83.256976 | F19: =100*Engine!H24/Engine!$C$3 -> 54.568182 | H19: =A19 -> 2 | I19: =IF(Engine!G24=0,"",Engine!G24) -> 120.68905 | J19: ='DECISIONS INPUT'!F23 -> 26 | K19: ='DECISIONS INPUT'!F24 -> 70 | L19: =100*(T19+U19)/Y19 -> 7.0662333 | M19: =F19 -> 54.568182 | N19: =I19*( 42-L19)/100 -> 42.161232 | O19: =H19 -> 2 | P19: =P18*0.98 -> 96.04 | Q19: ='DECISIONS INPUT'!F33 -> 80 | R19: =H19 -> 2 | S19: =Engine!M24 -> 6.6808185e+09 | T19: =Engine!N24 -> 8.8545455e+08 | U19: =Engine!O24 -> 4.6590909e+08 | V19: =(Y19-(S19+T19+U19))*$V$15/$Y$15 -> 5.1635456e+09 | W19: =(Y19-(S19+T19+U19))*$W$15/$Y$15 -> 1.9124243e+09 | X19: =(Y19-(S19+T19+U19))*$X$15/$Y$15 -> 4.0160911e+09 | Y19: =Engine!F24 -> 1.9124243e+10 | Z19: =SUM(S19:X19) -> 1.9124243e+10 | AA19: =V19+W19+X19 -> 1.1092061e+10
A20: 3 | B20: =50*'DECISIONS INPUT'!G29/'DECISIONS INPUT'!$D$29 -> 55 | C20: =B20*'DECISIONS INPUT'!G25/'DECISIONS INPUT'!G29 -> 13.333333 | D20: =B20*'DECISIONS INPUT'!$F$10 -> 12.833333 | E20: =Engine!Y25 -> 86.996915 | F20: =100*Engine!H25/Engine!$C$3 -> 53.476818 | H20: =A20 -> 3 | I20: =IF(Engine!G25=0,"",Engine!G25) -> 121.36413 | J20: ='DECISIONS INPUT'!G23 -> 27 | K20: ='DECISIONS INPUT'!G24 -> 70 | L20: =100*(T20+U20)/Y20 -> 14.507853 | M20: =F20 -> 53.476818 | N20: =I20*( 42-L20)/100 -> 33.365604 | O20: =H20 -> 3 | P20: =P19*0.98 -> 94.1192 | Q20: ='DECISIONS INPUT'!G33 -> 80 | R20: =H20 -> 3 | S20: =Engine!M25 -> 5.2870737e+09 | T20: =Engine!N25 -> 1.8582182e+09 | U20: =Engine!O25 -> 9.3181818e+08 | V20: =(Y20-(S20+T20+U20))*$V$15/$Y$15 -> 5.1924279e+09 | W20: =(Y20-(S20+T20+U20))*$W$15/$Y$15 -> 1.9231214e+09 | X20: =(Y20-(S20+T20+U20))*$X$15/$Y$15 -> 4.038555e+09 | Y20: =Engine!F25 -> 1.9231214e+10 | Z20: =SUM(S20:X20) -> 1.9231214e+10 | AA20: =V20+W20+X20 -> 1.1154104e+10
A21: 4 | B21: =50*'DECISIONS INPUT'!H29/'DECISIONS INPUT'!$D$29 -> 55 | C21: =B21*'DECISIONS INPUT'!H25/'DECISIONS INPUT'!H29 -> 13.333333 | D21: =B21*'DECISIONS INPUT'!$F$10 -> 12.833333 | E21: =Engine!Y26 -> 90.813178 | F21: =100*Engine!H26/Engine!$C$3 -> 52.407282 | H21: =A21 -> 4 | I21: =IF(Engine!G26=0,"",Engine!G26) -> 119.85897 | J21: ='DECISIONS INPUT'!H23 -> 28 | K21: ='DECISIONS INPUT'!H24 -> 70 | L21: =100*(T21+U21)/Y21 -> 15.140543 | M21: =F21 -> 52.407282 | N21: =I21*( 42-L21)/100 -> 32.193469 | O21: =H21 -> 4 | P21: =P20*0.98 -> 92.236816 | Q21: ='DECISIONS INPUT'!H33 -> 80 | R21: =H21 -> 4 | S21: =Engine!M26 -> 5.1013386e+09 | T21: =Engine!N26 -> 1.9437811e+09 | U21: =Engine!O26 -> 9.3181818e+08 | V21: =(Y21-(S21+T21+U21))*$V$15/$Y$15 -> 5.1280315e+09 | W21: =(Y21-(S21+T21+U21))*$W$15/$Y$15 -> 1.8992709e+09 | X21: =(Y21-(S21+T21+U21))*$X$15/$Y$15 -> 3.9884689e+09 | Y21: =Engine!F26 -> 1.8992709e+10 | Z21: =SUM(S21:X21) -> 1.8992709e+10 | AA21: =V21+W21+X21 -> 1.1015771e+10
A22: 5 | B22: =50*'DECISIONS INPUT'!I29/'DECISIONS INPUT'!$D$29 -> 55 | C22: =B22*'DECISIONS INPUT'!I25/'DECISIONS INPUT'!I29 -> 13.333333 | D22: =B22*'DECISIONS INPUT'!$F$10 -> 12.833333 | E22: =Engine!Y27 -> 94.707325 | F22: =100*Engine!H27/Engine!$C$3 -> 51.359136 | H22: =A22 -> 5 | I22: =IF(Engine!G27=0,"",Engine!G27) -> 118.37342 | J22: ='DECISIONS INPUT'!I23 -> 29 | K22: ='DECISIONS INPUT'!I24 -> 70 | L22: =100*(T22+U22)/Y22 -> 15.777586 | M22: =F22 -> 51.359136 | N22: =I22*( 42-L22)/100 -> 31.040368 | O22: =H22 -> 5 | P22: =P21*0.98 -> 90.39208 | Q22: ='DECISIONS INPUT'!I33 -> 80 | R22: =H22 -> 5 | S22: =Engine!M27 -> 4.9186196e+09 | T22: =Engine!N27 -> 2.0276327e+09 | U22: =Engine!O27 -> 9.3181818e+08 | V22: =(Y22-(S22+T22+U22))*$V$15/$Y$15 -> 5.0644739e+09 | W22: =(Y22-(S22+T22+U22))*$W$15/$Y$15 -> 1.8757311e+09 | X22: =(Y22-(S22+T22+U22))*$X$15/$Y$15 -> 3.9390353e+09 | Y22: =Engine!F27 -> 1.8757311e+10 | Z22: =SUM(S22:X22) -> 1.8757311e+10 | AA22: =V22+W22+X22 -> 1.087924e+10
A23: 6 | B23: =50*'DECISIONS INPUT'!J29/'DECISIONS INPUT'!$D$29 -> 55 | C23: =B23*'DECISIONS INPUT'!J25/'DECISIONS INPUT'!J29 -> 13.333333 | D23: =B23*'DECISIONS INPUT'!$F$10 -> 12.833333 | E23: =Engine!Y28 -> 98.680943 | F23: =100*Engine!H28/Engine!$C$3 -> 50.331953 | H23: =A23 -> 6 | I23: =IF(Engine!G28=0,"",Engine!G28) -> 116.90757 | J23: ='DECISIONS INPUT'!J23 -> 30 | K23: ='DECISIONS INPUT'!J24 -> 70 | L23: =100*(T23+U23)/Y23 -> 16.419002 | M23: =F23 -> 50.331953 | N23: =I23*( 42-L23)/100 -> 29.906122 | O23: =H23 -> 6 | P23: =P22*0.98 -> 88.584238 | Q23: ='DECISIONS INPUT'!J33 -> 80 | R23: =H23 -> 6 | S23: =Engine!M28 -> 4.7388884e+09 | T23: =Engine!N28 -> 2.1098074e+09 | U23: =Engine!O28 -> 9.3181818e+08 | V23: =(Y23-(S23+T23+U23))*$V$15/$Y$15 -> 5.001759e+09 | W23: =(Y23-(S23+T23+U23))*$W$15/$Y$15 -> 1.8525033e+09 | X23: =(Y23-(S23+T23+U23))*$X$15/$Y$15 -> 3.890257e+09 | Y23: =Engine!F28 -> 1.8525033e+10 | Z23: =SUM(S23:X23) -> 1.8525033e+10 | AA23: =V23+W23+X23 -> 1.0744519e+10
A24: 7 | B24: =50*'DECISIONS INPUT'!K29/'DECISIONS INPUT'!$D$29 -> 55 | C24: =B24*'DECISIONS INPUT'!K25/'DECISIONS INPUT'!K29 -> 13.333333 | D24: =B24*'DECISIONS INPUT'!$F$10 -> 12.833333 | E24: =Engine!Y29 -> 102.73566 | F24: =100*Engine!H29/Engine!$C$3 -> 49.325314 | H24: =A24 -> 7 | I24: =IF(Engine!G29=0,"",Engine!G29) -> 115.46147 | J24: ='DECISIONS INPUT'!K23 -> 31 | K24: ='DECISIONS INPUT'!K24 -> 70 | L24: =100*(T24+U24)/Y24 -> 17.064802 | M24: =F24 -> 49.325314 | N24: =I24*( 42-L24)/100 -> 28.790546 | O24: =H24 -> 7 | P24: =P23*0.98 -> 86.812553 | Q24: ='DECISIONS INPUT'!K33 -> 80 | R24: =H24 -> 7 | S24: =Engine!M29 -> 4.5621155e+09 | T24: =Engine!N29 -> 2.1903385e+09 | U24: =Engine!O29 -> 9.3181818e+08 | V24: =(Y24-(S24+T24+U24))*$V$15/$Y$15 -> 4.9398893e+09 | W24: =(Y24-(S24+T24+U24))*$W$15/$Y$15 -> 1.8295886e+09 | X24: =(Y24-(S24+T24+U24))*$X$15/$Y$15 -> 3.8421361e+09 | Y24: =Engine!F29 -> 1.8295886e+10 | Z24: =SUM(S24:X24) -> 1.8295886e+10 | AA24: =V24+W24+X24 -> 1.0611614e+10
A25: 8 | B25: =50*'DECISIONS INPUT'!L29/'DECISIONS INPUT'!$D$29 -> 55 | C25: =B25*'DECISIONS INPUT'!L25/'DECISIONS INPUT'!L29 -> 13.333333 | D25: =B25*'DECISIONS INPUT'!$F$10 -> 12.833333 | E25: =Engine!Y30 -> 106.87312 | F25: =100*Engine!H30/Engine!$C$3 -> 48.338808 | H25: =A25 -> 8 | I25: =IF(Engine!G30=0,"",Engine!G30) -> 114.03517 | J25: ='DECISIONS INPUT'!L23 -> 32 | K25: ='DECISIONS INPUT'!L24 -> 70 | L25: =100*(T25+U25)/Y25 -> 17.714992 | M25: =F25 -> 48.338808 | N25: =I25*( 42-L25)/100 -> 27.69345 | O25: =H25 -> 8 | P25: =P24*0.98 -> 85.076302 | Q25: ='DECISIONS INPUT'!L33 -> 80 | R25: =H25 -> 8 | S25: =Engine!M30 -> 4.3882711e+09 | T25: =Engine!N30 -> 2.269259e+09 | U25: =Engine!O30 -> 9.3181818e+08 | V25: =(Y25-(S25+T25+U25))*$V$15/$Y$15 -> 4.8788667e+09 | W25: =(Y25-(S25+T25+U25))*$W$15/$Y$15 -> 1.8069877e+09 | X25: =(Y25-(S25+T25+U25))*$X$15/$Y$15 -> 3.7946741e+09 | Y25: =Engine!F30 -> 1.8069877e+10 | Z25: =SUM(S25:X25) -> 1.8069877e+10 | AA25: =V25+W25+X25 -> 1.0480529e+10
A26: 9 | B26: =50*'DECISIONS INPUT'!M29/'DECISIONS INPUT'!$D$29 -> 55 | C26: =B26*'DECISIONS INPUT'!M25/'DECISIONS INPUT'!M29 -> 13.333333 | D26: =B26*'DECISIONS INPUT'!$F$10 -> 12.833333 | E26: =Engine!Y31 -> 111.09502 | F26: =100*Engine!H31/Engine!$C$3 -> 47.372032 | H26: =A26 -> 9 | I26: =IF(Engine!G31=0,"",Engine!G31) -> 112.6287 | J26: ='DECISIONS INPUT'!M23 -> 33 | K26: ='DECISIONS INPUT'!M24 -> 70 | L26: =100*(T26+U26)/Y26 -> 18.369573 | M26: =F26 -> 47.372032 | N26: =I26*( 42-L26)/100 -> 26.614642 | O26: =H26 -> 9 | P26: =P25*0.98 -> 83.374776 | Q26: ='DECISIONS INPUT'!M33 -> 80 | R26: =H26 -> 9 | S26: =Engine!M31 -> 4.2173243e+09 | T26: =Engine!N31 -> 2.3466011e+09 | U26: =Engine!O31 -> 9.3181818e+08 | V26: =(Y26-(S26+T26+U26))*$V$15/$Y$15 -> 4.8186923e+09 | W26: =(Y26-(S26+T26+U26))*$W$15/$Y$15 -> 1.7847008e+09 | X26: =(Y26-(S26+T26+U26))*$X$15/$Y$15 -> 3.7478718e+09 | Y26: =Engine!F31 -> 1.7847008e+10 | Z26: =SUM(S26:X26) -> 1.7847008e+10 | AA26: =V26+W26+X26 -> 1.0351265e+10
A27: 10 | B27: =50*'DECISIONS INPUT'!N29/'DECISIONS INPUT'!$D$29 -> 55 | C27: =B27*'DECISIONS INPUT'!N25/'DECISIONS INPUT'!N29 -> 13.333333 | H27: =A27 -> 10 | J27: ='DECISIONS INPUT'!N23 -> 34 | K27: ='DECISIONS INPUT'!N24 -> 70 | O27: =H27 -> 10 | P27: =P26*0.98 -> 81.707281 | Q27: ='DECISIONS INPUT'!N33 -> 80 | R27: =H27 -> 10 | S27: =Engine!M32 -> 4.256915e+09 | T27: =Engine!N32 -> 2.3466011e+09 | U27: =Engine!O32 -> 9.3181818e+08 | V27: =(Y27-(S27+T27+U27))*$V$15/$Y$15 -> 4.8441434e+09 | W27: =(Y27-(S27+T27+U27))*$W$15/$Y$15 -> 1.7941272e+09 | X27: =(Y27-(S27+T27+U27))*$X$15/$Y$15 -> 3.7676671e+09 | Y27: =Engine!F32 -> 1.7941272e+10 | Z27: =SUM(S27:X27) -> 1.7941272e+10 | AA27: =V27+W27+X27 -> 1.0405938e+10
A28: 11 | B28: =50*'DECISIONS INPUT'!O29/'DECISIONS INPUT'!$D$29 -> 55 | C28: =B28*'DECISIONS INPUT'!O25/'DECISIONS INPUT'!O29 -> 13.333333 | H28: =A28 -> 11 | J28: ='DECISIONS INPUT'!O23 -> 35 | K28: ='DECISIONS INPUT'!O24 -> 70 | O28: =H28 -> 11 | P28: =P27*0.98 -> 80.073135 | Q28: ='DECISIONS INPUT'!O33 -> 80 | R28: =H28 -> 11 | S28: =Engine!M33 -> 4.2959191e+09 | T28: =Engine!N33 -> 2.3466011e+09 | U28: =Engine!O33 -> 9.3181818e+08 | V28: =(Y28-(S28+T28+U28))*$V$15/$Y$15 -> 4.8692176e+09 | W28: =(Y28-(S28+T28+U28))*$W$15/$Y$15 -> 1.8034139e+09 | X28: =(Y28-(S28+T28+U28))*$X$15/$Y$15 -> 3.7871692e+09 | Y28: =Engine!F33 -> 1.8034139e+10 | Z28: =SUM(S28:X28) -> 1.8034139e+10 | AA28: =V28+W28+X28 -> 1.0459801e+10
A29: 12 | B29: =50*'DECISIONS INPUT'!P29/'DECISIONS INPUT'!$D$29 -> 55 | C29: =B29*'DECISIONS INPUT'!P25/'DECISIONS INPUT'!P29 -> 13.333333 | H29: =A29 -> 12 | J29: ='DECISIONS INPUT'!P23 -> 36 | K29: ='DECISIONS INPUT'!P24 -> 70 | O29: =H29 -> 12 | P29: =P28*0.98 -> 78.471672 | Q29: ='DECISIONS INPUT'!P33 -> 80 | R29: =H29 -> 12 | S29: =Engine!M34 -> 4.3343497e+09 | T29: =Engine!N34 -> 2.3466011e+09 | U29: =Engine!O34 -> 9.3181818e+08 | V29: =(Y29-(S29+T29+U29))*$V$15/$Y$15 -> 4.8939229e+09 | W29: =(Y29-(S29+T29+U29))*$W$15/$Y$15 -> 1.812564e+09 | X29: =(Y29-(S29+T29+U29))*$X$15/$Y$15 -> 3.8063845e+09 | Y29: =Engine!F34 -> 1.812564e+10 | Z29: =SUM(S29:X29) -> 1.812564e+10 | AA29: =V29+W29+X29 -> 1.0512871e+10
P36: PERFORMANCE
A38: ROUND | B38: Popularity | C38: UBI costs | D38: Workforce | E38: Gov income | P38: =A38 -> ROUND | Q38: Profitability | R38: Target Profitability | S38: =E1 -> Wages after tax & VAT | T38: Spending PIE | U38: PIE Target | V38: UBI after VAT | W38: Minimum wage after tax+vat | X38: Politician Popularity
A39: 0 | B39: ='DECISIONS INPUT'!D33 -> 50 | C39: =L17 -> 1.9900498 | D39: =M17 -> 56.818182 | E39: =I17 -> 100 | P39: =A39 -> 0 | Q39: =Engine!AJ22 -> 50 | R39: =Q39 -> 50 | S39: =E2 -> 28 | T39: =100*AA17/$AA$17 -> 100 | U39: =T39 -> 100 | V39: =L2 -> 1.3333333 | W39: =O2 -> 8.1666667 | X39: =B39 -> 50
A40: 1 | B40: ='DECISIONS INPUT'!E33 -> 80 | C40: =L18 -> 3.39832 | D40: =M18 -> 55.681818 | E40: =I18 -> 121.34015 | P40: =A40 -> 1 | Q40: =IF(Engine!AJ23=0,"",Engine!AJ23) -> 63.427083 | R40: =R39 -> 50 | S40: =IF(E3=0,"",E3) -> 28.6 | T40: =IF(AA18=0,"",100*AA18/$AA$17) -> 121.34015 | U40: =U39 -> 100 | V40: =L3 -> 2.6666667 | W40: =O3 -> 7.5833333 | X40: =B40 -> 80
A41: 2 | B41: ='DECISIONS INPUT'!F33 -> 80 | C41: =L19 -> 7.0662333 | D41: =M19 -> 54.568182 | E41: =I19 -> 120.68905 | P41: =A41 -> 2 | Q41: =IF(Engine!AJ24=0,"",Engine!AJ24) -> 69.292599 | R41: =R40 -> 50 | S41: =IF(E4=0,"",E4) -> 28.373016 | T41: =IF(AA19=0,"",100*AA19/$AA$17) -> 120.68905 | U41: =U40 -> 100 | V41: =L4 -> 5.2910053 | W41: =O4 -> 7.5833333 | X41: =B41 -> 80 | AE41: =50*0.4 -> 20
A42: 3 | B42: ='DECISIONS INPUT'!G33 -> 80 | C42: =L20 -> 14.507853 | D42: =M20 -> 53.476818 | E42: =I20 -> 121.36413 | P42: =A42 -> 3 | Q42: =IF(Engine!AJ25=0,"",Engine!AJ25) -> 82.921532 | R42: =R41 -> 50 | S42: =IF(E5=0,"",E5) -> 28.149606 | T42: =IF(AA20=0,"",100*AA20/$AA$17) -> 121.36413 | U42: =U41 -> 100 | V42: =L5 -> 10.498688 | W42: =O5 -> 7.5833333 | X42: =B42 -> 80
A43: 4 | B43: ='DECISIONS INPUT'!H33 -> 80 | C43: =L21 -> 15.140543 | D43: =M21 -> 52.407282 | E43: =I21 -> 119.85897 | P43: =A43 -> 4 | Q43: =IF(Engine!AJ26=0,"",Engine!AJ26) -> 81.94589 | R43: =R42 -> 50 | S43: =IF(E6=0,"",E6) -> 27.929688 | T43: =IF(AA21=0,"",100*AA21/$AA$17) -> 119.85897 | U43: =U42 -> 100 | V43: =L6 -> 10.416667 | W43: =O6 -> 7.5833333 | X43: =B43 -> 80
A44: 5 | B44: ='DECISIONS INPUT'!I33 -> 80 | C44: =L22 -> 15.777586 | D44: =M22 -> 51.359136 | E44: =I22 -> 118.37342 | P44: =A44 -> 5 | Q44: =IF(Engine!AJ27=0,"",Engine!AJ27) -> 80.957986 | R44: =R43 -> 50 | S44: =IF(E7=0,"",E7) -> 27.713178 | T44: =IF(AA22=0,"",100*AA22/$AA$17) -> 118.37342 | U44: =U43 -> 100 | V44: =L7 -> 10.335917 | W44: =O7 -> 7.5833333 | X44: =B44 -> 80
A45: 6 | B45: ='DECISIONS INPUT'!J33 -> 80 | C45: =L23 -> 16.419002 | D45: =M23 -> 50.331953 | E45: =I23 -> 116.90757 | P45: =A45 -> 6 | Q45: =IF(Engine!AJ28=0,"",Engine!AJ28) -> 79.958513 | R45: =R44 -> 50 | S45: =IF(E8=0,"",E8) -> 27.5 | T45: =IF(AA23=0,"",100*AA23/$AA$17) -> 116.90757 | U45: =U44 -> 100 | V45: =L8 -> 10.25641 | W45: =O8 -> 7.5833333 | X45: =B45 -> 80
A46: 7 | B46: ='DECISIONS INPUT'!K33 -> 80 | C46: =L24 -> 17.064802 | D46: =M24 -> 49.325314 | E46: =I24 -> 115.46147 | P46: =A46 -> 7 | Q46: =IF(Engine!AJ29=0,"",Engine!AJ29) -> 78.948128 | R46: =R45 -> 50 | S46: =IF(E9=0,"",E9) -> 27.290076 | T46: =IF(AA24=0,"",100*AA24/$AA$17) -> 115.46147 | U46: =U45 -> 100 | V46: =L9 -> 10.178117 | W46: =O9 -> 7.5833333 | X46: =B46 -> 80
A47: 8 | B47: ='DECISIONS INPUT'!L33 -> 80 | C47: =L25 -> 17.714992 | D47: =M25 -> 48.338808 | E47: =I25 -> 114.03517 | P47: =A47 -> 8 | Q47: =IF(Engine!AJ30=0,"",Engine!AJ30) -> 77.927451 | R47: =R46 -> 50 | S47: =IF(E10=0,"",E10) -> 27.083333 | T47: =IF(AA25=0,"",100*AA25/$AA$17) -> 114.03517 | U47: =U46 -> 100 | V47: =L10 -> 10.10101 | W47: =O10 -> 7.5833333 | X47: =B47 -> 80
...

Sheet DECISIONS INPUT
C2: BASIC FIGURES: Starting Point
C3: Population | D3: 10 | E3: million
C4: Support quote older | D4: 35 | E4: per 100 in workforce | F4: =10000000*D4 /176 -> 1988636.4
C5: Suport quote younger 50% UBI | D5: 41 | E5: per 100 in workforce | F5: =10000000*D5 /176 -> 2329545.5
C6: In workforce | E6: 100 of 176 | F6: =D3*1000000*100/176 -> 5681818.2
C7: Looking for work | D7: =0.06 -> 0.06 | E7: %
C8: Over 20 | D8: =D3-(D3*41/176) -> 7.6704545 | E8: million
C9: Average wage | D9: 3000 | E9: $LP a month
C10: Minimum | D10: 700 | E10: $LP a month | F10: =D10/D9 -> 0.23333333
C11: VAT | D11: 25 | E11: %
C12: Income fr VAT | D12: 0.2 | E12: total
C13: Income work | D13: 60 | E13: % total
C14: Income other incl. capital | D14: 0.2 | E14: total
C15: Gov Income | D15: 200000 | E15: $LP million
C16: Social expenses | D16: =D15*42/100 -> 84000 | E16: $LP million | F16: =D16/D15 -> 0.42
C17: Government employees | D17: 10 | E17: % of total
D20: START | E20: ROUNDS
C21: DECISIONS | E21: 1 | F21: =E21+1 -> 2 | G21: =F21+1 -> 3 | H21: =G21+1 -> 4 | I21: =H21+1 -> 5 | J21: =I21+1 -> 6 | K21: =J21+1 -> 7 | L21: =K21+1 -> 8 | M21: =L21+1 -> 9 | ... P21: =O21+1 -> 12
C22: Government
C23: VAT% | D23: =D11 -> 25 | E23: 25 | F23: 26 | G23: 27 | H23: 28 | I23: 29 | J23: 30 | K23: 31 | L23: 32 | M23: 33 | N23: 34 | O23: 35 | P23: 36
C24: %Tax on employment | D24: =D13 -> 60 | E24: 70 | F24: 70 | G24: 70 | H24: 70 | I24: 70 | J24: 70 | K24: 70 | L24: 70 | M24: 70 | N24: 70 | O24: 70 | P24: 70
C25: Basic income $LP | D25: 100 | E25: 200 | F25: =E25*2 -> 400 | G25: =F25*2 -> 800 | H25: 800 | I25: 800 | J25: 800 | K25: 800 | L25: 800 | M25: 800 | N25: 800 | O25: 800 | P25: 800
C27: Employers
C28: AV. Wages Start=100 | D28: 100 | E28: 110 | F28: 110 | G28: 110 | H28: 110 | I28: 110 | J28: 110 | K28: 110 | L28: 110 | M28: 110 | N28: 110 | O28: 110 | P28: 110
C29: Wages actual $LP | D29: =D9 -> 3000 | E29: =$D$29*E28/$D$28 -> 3300 | F29: =$D$29*F28/$D$28 -> 3300 | G29: =$D$29*G28/$D$28 -> 3300 | H29: =$D$29*H28/$D$28 -> 3300 | I29: =$D$29*I28/$D$28 -> 3300 | J29: =$D$29*J28/$D$28 -> 3300 | K29: =$D$29*K28/$D$28 -> 3300 | L29: =$D$29*L28/$D$28 -> 3300 | ... P29: =$D$29*P28/$D$28 -> 3300
C30: Workers
C31: % Change work force | D31: 0 | E31: -2 | F31: -2 | G31: -2 | H31: -2 | I31: -2 | J31: -2 | K31: -2 | L31: -2 | M31: -2 | N31: -2 | O31: -2 | P31: -2
C32: % change Gov workforce
C33: Popularity of Government % | D33: 50 | E33: 80 | F33: 80 | G33: 80 | H33: 80 | I33: 80 | J33: 80 | K33: 80 | L33: 80 | M33: 80 | N33: 80 | O33: 80 | P33: 80
C35: Minimum Wage = | D35: 700 | E35: =E10 -> $LP a month
C37: Raise VAT Lower tax on work
C38: Lower Quota ratio see what happens
C39: Explore effects UBI has on money in people's pockets
C40: LOwer wages becasue security is there
C41: Raise wages to make work more intereting
C43: Development
C44: Effects of governemnt employment ..lowering becasue of UBI

Sheet Charts Overview
B100: ='Graph engine'!A16 -> ROUND | C100: ='Graph engine'!J16 -> VAT Rate in % | D100: ='Graph engine'!K16 -> Tax on work% | E100: ='Graph engine'!L16 -> State Expenses UBI as percentage of total | F100: ='Graph engine'!I16 -> State Income 0=100 | G100: ='Graph engine'!A16 -> ROUND | H100: ='Graph engine'!B16 -> Average Wage start=50/100 | I100: ='Graph engine'!C16 -> UBI compared to average wage | J100: ='Graph engine'!D16 -> Minimum (compared to average) | K100: ='Graph engine'!E16 -> Support quota | L100: ='Graph engine'!F16 -> Workforce % of total population
B101: ='Graph engine'!A17 -> 0 | C101: ='Graph engine'!J17 -> 25 | D101: ='Graph engine'!K17 -> 60 | E101: ='Graph engine'!L17 -> 1.9900498 | F101: ='Graph engine'!I17 -> 100 | G101: ='Graph engine'!A17 -> 0 | H101: ='Graph engine'!B17 -> 50 | I101: ='Graph engine'!C17 -> 1.6666667 | J101: ='Graph engine'!D17 -> 11.666667 | K101: ='Graph engine'!E17 -> 76 | L101: ='Graph engine'!F17 -> 56.818182
B102: ='Graph engine'!A18 -> 1 | C102: ='Graph engine'!J18 -> 25 | D102: ='Graph engine'!K18 -> 70 | E102: ='Graph engine'!L18 -> 3.39832 | F102: =IF('Graph engine'!I18=0,"",'Graph engine'!I18) -> 121.34015 | G102: ='Graph engine'!A18 -> 1 | H102: =IF('Graph engine'!B18=0,"",'Graph engine'!B18) -> 55 | I102: ='Graph engine'!C18 -> 3.3333333 | J102: =IF('Graph engine'!D18=0,"", 'Graph engine'!D18) -> 12.833333 | K102: ='Graph engine'!E18 -> 79.591837 | L102: ='Graph engine'!F18 -> 55.681818
B103: ='Graph engine'!A19 -> 2 | C103: ='Graph engine'!J19 -> 26 | D103: ='Graph engine'!K19 -> 70 | E103: ='Graph engine'!L19 -> 7.0662333 | F103: =IF('Graph engine'!I19=0,"",'Graph engine'!I19) -> 120.68905 | G103: ='Graph engine'!A19 -> 2 | H103: =IF('Graph engine'!B19=0,"",'Graph engine'!B19) -> 55 | I103: =IF('Graph engine'!C19=0,"",'Graph engine'!C19) -> 6.6666667 | J103: =IF('Graph engine'!D19=0,"", 'Graph engine'!D19) -> 12.833333 | K103: ='Graph engine'!E19 -> 83.256976 | L103: ='Graph engine'!F19 -> 54.568182
B104: ='Graph engine'!A20 -> 3 | C104: ='Graph engine'!J20 -> 27 | D104: ='Graph engine'!K20 -> 70 | E104: ='Graph engine'!L20 -> 14.507853 | F104: =IF('Graph engine'!I20=0,"",'Graph engine'!I20) -> 121.36413 | G104: ='Graph engine'!A20 -> 3 | H104: =IF('Graph engine'!B20=0,"",'Graph engine'!B20) -> 55 | I104: =IF('Graph engine'!C20=0,"",'Graph engine'!C20) -> 13.333333 | J104: =IF('Graph engine'!D20=0,"", 'Graph engine'!D20) -> 12.833333 | K104: ='Graph engine'!E20 -> 86.996915 | L104: ='Graph engine'!F20 -> 53.476818
B105: ='Graph engine'!A21 -> 4 | C105: ='Graph engine'!J21 -> 28 | D105: ='Graph engine'!K21 -> 70 | E105: ='Graph engine'!L21 -> 15.140543 | F105: =IF('Graph engine'!I21=0,"",'Graph engine'!I21) -> 119.85897 | G105: ='Graph engine'!A21 -> 4 | H105: =IF('Graph engine'!B21=0,"",'Graph engine'!B21) -> 55 | I105: =IF('Graph engine'!C21=0,"",'Graph engine'!C21) -> 13.333333 | J105: =IF('Graph engine'!D21=0,"", 'Graph engine'!D21) -> 12.833333 | K105: ='Graph engine'!E21 -> 90.813178 | L105: ='Graph engine'!F21 -> 52.407282
B106: ='Graph engine'!A22 -> 5 | C106: ='Graph engine'!J22 -> 29 | D106: ='Graph engine'!K22 -> 70 | E106: ='Graph engine'!L22 -> 15.777586 | F106: =IF('Graph engine'!I22=0,"",'Graph engine'!I22) -> 118.37342 | G106: ='Graph engine'!A22 -> 5 | H106: =IF('Graph engine'!B22=0,"",'Graph engine'!B22) -> 55 | I106: =IF('Graph engine'!C22=0,"",'Graph engine'!C22) -> 13.333333 | J106: =IF('Graph engine'!D22=0,"", 'Graph engine'!D22) -> 12.833333 | K106: ='Graph engine'!E22 -> 94.707325 | L106: ='Graph engine'!F22 -> 51.359136
B107: ='Graph engine'!A23 -> 6 | C107: ='Graph engine'!J23 -> 30 | D107: ='Graph engine'!K23 -> 70 | E107: ='Graph engine'!L23 -> 16.419002 | F107: =IF('Graph engine'!I23=0,"",'Graph engine'!I23) -> 116.90757 | G107: ='Graph engine'!A23 -> 6 | H107: =IF('Graph engine'!B23=0,"",'Graph engine'!B23) -> 55 | I107: =IF('Graph engine'!C23=0,"",'Graph engine'!C23) -> 13.333333 | J107: =IF('Graph engine'!D23=0,"", 'Graph engine'!D23) -> 12.833333 | K107: ='Graph engine'!E23 -> 98.680943 | L107: ='Graph engine'!F23 -> 50.331953
B108: ='Graph engine'!A24 -> 7 | C108: ='Graph engine'!J24 -> 31 | D108: ='Graph engine'!K24 -> 70 | E108: ='Graph engine'!L24 -> 17.064802 | F108: =IF('Graph engine'!I24=0,"",'Graph engine'!I24) -> 115.46147 | G108: ='Graph engine'!A24 -> 7 | H108: =IF('Graph engine'!B24=0,"",'Graph engine'!B24) -> 55 | I108: =IF('Graph engine'!C24=0,"",'Graph engine'!C24) -> 13.333333 | J108: =IF('Graph engine'!D24=0,"", 'Graph engine'!D24) -> 12.833333 | K108: ='Graph engine'!E24 -> 102.73566 | L108: ='Graph engine'!F24 -> 49.325314
B109: ='Graph engine'!A25 -> 8 | C109: ='Graph engine'!J25 -> 32 | D109: ='Graph engine'!K25 -> 70 | E109: ='Graph engine'!L25 -> 17.714992 | F109: =IF('Graph engine'!I25=0,"",'Graph engine'!I25) -> 114.03517 | G109: ='Graph engine'!A25 -> 8 | H109: =IF('Graph engine'!B25=0,"",'Graph engine'!B25) -> 55 | I109: =IF('Graph engine'!C25=0,"",'Graph engine'!C25) -> 13.333333 | J109: =IF('Graph engine'!D25=0,"", 'Graph engine'!D25) -> 12.833333 | K109: ='Graph engine'!E25 -> 106.87312 | L109: ='Graph engine'!F25 -> 48.338808
B110: ='Graph engine'!A26 -> 9 | C110: ='Graph engine'!J26 -> 33 | D110: ='Graph engine'!K26 -> 70 | E110: ='Graph engine'!L26 -> 18.369573 | F110: =IF('Graph engine'!I26=0,"",'Graph engine'!I26) -> 112.6287 | G110: ='Graph engine'!A26 -> 9 | H110: =IF('Graph engine'!B26=0,"",'Graph engine'!B26) -> 55 | I110: =IF('Graph engine'!C26=0,"",'Graph engine'!C26) -> 13.333333 | J110: =IF('Graph engine'!D26=0,"", 'Graph engine'!D26) -> 12.833333 | K110: ='Graph engine'!E26 -> 111.09502 | L110: ='Graph engine'!F26 -> 47.372032
B111: ='Graph engine'!A27 -> 10 | C111: ='Graph engine'!J27 -> 34 | D111: ='Graph engine'!K27 -> 70 | E111: ='Graph engine'!L27 -> 0 | F111: ='Graph engine'!M27 -> 0 | G111: ='Graph engine'!A27 -> 10 | H111: ='Graph engine'!B27 -> 55 | I111: ='Graph engine'!C27 -> 13.333333 | J111: ='Graph engine'!D27 -> 0 | K111: ='Graph engine'!E27 -> 0 | L111: ='Graph engine'!F27 -> 0
B112: ='Graph engine'!A28 -> 11 | C112: ='Graph engine'!J28 -> 35 | D112: ='Graph engine'!K28 -> 70 | E112: ='Graph engine'!L28 -> 0 | F112: ='Graph engine'!M28 -> 0 | G112: ='Graph engine'!A28 -> 11 | H112: ='Graph engine'!B28 -> 55 | I112: ='Graph engine'!C28 -> 13.333333 | J112: ='Graph engine'!D28 -> 0 | K112: ='Graph engine'!E28 -> 0 | L112: ='Graph engine'!F28 -> 0
B113: ='Graph engine'!A29 -> 12 | C113: ='Graph engine'!J29 -> 36 | D113: ='Graph engine'!K29 -> 70 | E113: ='Graph engine'!L29 -> 0 | F113: ='Graph engine'!M29 -> 0 | G113: ='Graph engine'!A29 -> 12 | H113: ='Graph engine'!B29 -> 55 | I113: ='Graph engine'!C29 -> 13.333333 | J113: ='Graph engine'!D29 -> 0 | K113: ='Graph engine'!E29 -> 0 | L113: ='Graph engine'!F29 -> 0
B114: ='Graph engine'!A30 -> 0
